BEGIN:VCALENDAR
VERSION:2.0
PRODID:-//HERO - ECPv6.15.13//NONSGML v1.0//EN
CALSCALE:GREGORIAN
METHOD:PUBLISH
X-ORIGINAL-URL:https://staging.herongo.org
X-WR-CALDESC:Events for HERO
REFRESH-INTERVAL;VALUE=DURATION:PT1H
X-Robots-Tag:noindex
X-PUBLISHED-TTL:PT1H
BEGIN:VTIMEZONE
TZID:UTC
BEGIN:STANDARD
TZOFFSETFROM:+0000
TZOFFSETTO:+0000
TZNAME:UTC
DTSTART:20220101T000000
END:STANDARD
END:VTIMEZONE
BEGIN:VEVENT
DTSTART;TZID=UTC:20230813T080000
DTEND;TZID=UTC:20230813T170000
DTSTAMP:20260422T122403
CREATED:20230813T193816Z
LAST-MODIFIED:20230813T193816Z
UID:1345-1691913600-1691946000@staging.herongo.org
SUMMARY:RECYCLING PLASTIC AND WASTE MANAGEMENT FOR THE CLEAN ENVIRONMENT
DESCRIPTION:
URL:https://staging.herongo.org/event/recycling-plastic-and-waste-management-for-the-clean-environment-6/
LOCATION:24\, Western Street\, Sanford\, Florida\, Bangladesh
CATEGORIES:Planting
END:VEVENT
END:VCALENDAR